BEGIN:VCALENDAR
VERSION:2.0
PRODID:-//Sabre//Sabre VObject 4.5.8//EN
CALSCALE:GREGORIAN
BEGIN:VEVENT
UID:sabre-vobject-e7782b14-d40f-444d-a6b4-65acee47f0e1
DTSTAMP:20260424T091444Z
SUMMARY:Basteln
DESCRIPTION:https://keb-pfaffenhofen.de/basteln_id328515
DTSTART;TZID=Europe/Berlin:20260424T090000
LOCATION:Bürgerzentrum Pfaffenhofen Hofberg - Hobbyraum\, Hofberg 7\, 8527
 6 Pfaffenhofen an der Ilm
END:VEVENT
END:VCALENDAR
