BEGIN:VCALENDAR
VERSION:2.0
PRODID:-//Sabre//Sabre VObject 4.5.8//EN
CALSCALE:GREGORIAN
BEGIN:VEVENT
UID:sabre-vobject-fa43f2b8-8a11-44a1-8cc2-b5a7abe0ee28
DTSTAMP:20260426T031059Z
SUMMARY:Beweglichkeit im Alter: Yoga für Senioren
DESCRIPTION:https://keb-pfaffenhofen.de/beweglichkeit-im-alter-yoga-fuer-se
 nioren_id328503
DTSTART;TZID=Europe/Berlin:20260427T090000
LOCATION:Bürgerzentrum Pfaffenhofen Hofbergsaal\, Hofberg 7\, 85276 Pfaffe
 nhofen an der Ilm
END:VEVENT
END:VCALENDAR
