BEGIN:VCALENDAR
VERSION:2.0
PRODID:-//Sabre//Sabre VObject 4.5.8//EN
CALSCALE:GREGORIAN
BEGIN:VEVENT
UID:sabre-vobject-9ccd9642-e753-4528-b9f0-44d233ef60d3
DTSTAMP:20260425T101649Z
SUMMARY:Tanzen mal anders
DESCRIPTION:https://keb-pfaffenhofen.de/tanzen-mal-anders_id328452
DTSTART;TZID=Europe/Berlin:20260425T100000
LOCATION:Bürgerzentrum Pfaffenhofen Hofbergsaal\, Hofberg 7\, 85276 Pfaffe
 nhofen an der Ilm
END:VEVENT
END:VCALENDAR
