BEGIN:VCALENDAR
VERSION:2.0
PRODID:-//Sabre//Sabre VObject 4.5.8//EN
CALSCALE:GREGORIAN
BEGIN:VEVENT
UID:sabre-vobject-02cb874f-0c90-4dea-be0f-fc19fc152c4e
DTSTAMP:20260424T084915Z
SUMMARY:Tanztreff
DESCRIPTION:https://keb-pfaffenhofen.de/tanztreff_id325495
DTSTART;TZID=Europe/Berlin:20260422T140000
LOCATION:Bürgerzentrum Pfaffenhofen Hofbergsaal\, Hofberg 7\, 85276 Pfaffe
 nhofen an der Ilm
END:VEVENT
END:VCALENDAR
