BEGIN:VCALENDAR
VERSION:2.0
PRODID:-//Sabre//Sabre VObject 4.5.8//EN
CALSCALE:GREGORIAN
BEGIN:VEVENT
UID:sabre-vobject-488706cc-4cb9-4dd7-b709-f8a49b3de096
DTSTAMP:20260421T085630Z
SUMMARY:Gedächtnistraining für Senioren - Wir halten uns geistig fit und 
 agil
DESCRIPTION:https://keb-pfaffenhofen.de/gedaechtnistraining-fuer-senioren-w
 ir-halten-uns-geistig-fit-und-agil_id325491
DTSTART;TZID=Europe/Berlin:20260421T090000
LOCATION:Bürgerzentrum Pfaffenhofen Hofbergsaal\, Hofberg 7\, 85276 Pfaffe
 nhofen an der Ilm
END:VEVENT
END:VCALENDAR
