BEGIN:VCALENDAR
VERSION:2.0
PRODID:-//Sabre//Sabre VObject 4.5.8//EN
CALSCALE:GREGORIAN
BEGIN:VEVENT
UID:sabre-vobject-fba88bee-a44b-4194-ad8b-5bb03c28aed0
DTSTAMP:20260423T082238Z
SUMMARY:Kreatives Malen
DESCRIPTION:https://keb-pfaffenhofen.de/kreatives-malen_id325480
DTSTART;TZID=Europe/Berlin:20260423T140000
DTEND;TZID=Europe/Berlin:20260423T160000
LOCATION:Bürgerzentrum Pfaffenhofen Hofbergsaal\, Hofberg 7\, 85276 Pfaffe
 nhofen an der Ilm
END:VEVENT
END:VCALENDAR
