BEGIN:VCALENDAR
VERSION:2.0
PRODID:-//Sabre//Sabre VObject 4.5.8//EN
CALSCALE:GREGORIAN
BEGIN:VEVENT
UID:sabre-vobject-79b5896e-e0e1-4fd8-b985-64260137885b
DTSTAMP:20260423T080748Z
SUMMARY:Beweglichkeit im Alter - Sitzgymnastik für Senioren
DESCRIPTION:https://keb-pfaffenhofen.de/beweglichkeit-im-alter-sitzgymnasti
 k-fuer-senioren_id325469
DTSTART;TZID=Europe/Berlin:20260423T100000
LOCATION:Bürgerzentrum Pfaffenhofen Hofbergsaal\, Hofberg 7\, 85276 Pfaffe
 nhofen an der Ilm
END:VEVENT
END:VCALENDAR
