BEGIN:VCALENDAR
VERSION:2.0
PRODID:-//Sabre//Sabre VObject 4.5.8//EN
CALSCALE:GREGORIAN
BEGIN:VEVENT
UID:sabre-vobject-135927dd-3b4f-4ac2-ac6f-d27c60d3c308
DTSTAMP:20260423T080401Z
SUMMARY:Beweglichkeit im Alter - Sitzgymnastik für Senioren
DESCRIPTION:https://keb-pfaffenhofen.de/beweglichkeit-im-alter-sitzgymnasti
 k-fuer-senioren_id325465
DTSTART;TZID=Europe/Berlin:20260423T090000
LOCATION:Bürgerzentrum Pfaffenhofen Hofbergsaal\, Hofberg 7\, 85276 Pfaffe
 nhofen an der Ilm
END:VEVENT
END:VCALENDAR
