BEGIN:VCALENDAR
VERSION:2.0
PRODID:-//Sabre//Sabre VObject 4.5.8//EN
CALSCALE:GREGORIAN
BEGIN:VEVENT
UID:sabre-vobject-40436c3f-36c5-41bc-bb3d-1169cb9b0393
DTSTAMP:20260421T085630Z
SUMMARY:Qi Gong für Senioren
DESCRIPTION:https://keb-pfaffenhofen.de/qi-gong-fuer-senioren_id325452
DTSTART;TZID=Europe/Berlin:20260421T103000
LOCATION:Bürgerzentrum Pfaffenhofen Hofbergsaal\, Hofberg 7\, 85276 Pfaffe
 nhofen an der Ilm
END:VEVENT
END:VCALENDAR
