BEGIN:VCALENDAR
VERSION:2.0
PRODID:-//Sabre//Sabre VObject 4.5.8//EN
CALSCALE:GREGORIAN
BEGIN:VEVENT
UID:sabre-vobject-81bd01bf-fd0e-4e38-911f-c909b4b97fc0
DTSTAMP:20260423T080508Z
SUMMARY:Gymnastik für Senioren - Beweglichkeit im Alter
DESCRIPTION:https://keb-pfaffenhofen.de/gymnastik-fuer-senioren-beweglichke
 it-im-alter_id325449
DTSTART;TZID=Europe/Berlin:20260423T143000
LOCATION:Turnhalle der Joseph-Maria-Lutz-Schule\, Schulstraße 15\, 85276 P
 faffenhofen an der Ilm
END:VEVENT
END:VCALENDAR
