BEGIN:VCALENDAR
VERSION:2.0
PRODID:-//Sabre//Sabre VObject 4.5.8//EN
CALSCALE:GREGORIAN
BEGIN:VEVENT
UID:sabre-vobject-a7b2fdad-1df3-48b7-a9e9-43d54ccc91d4
DTSTAMP:20260420T030019Z
SUMMARY:Skat
DESCRIPTION:https://keb-pfaffenhofen.de/skat_id325446
DTSTART;TZID=Europe/Berlin:20260420T133000
LOCATION:Bürgerzentrum Pfaffenhofen Hofbergsaal\, Hofberg 7\, 85276 Pfaffe
 nhofen an der Ilm
END:VEVENT
END:VCALENDAR
