BEGIN:VCALENDAR
VERSION:2.0
PRODID:-//Sabre//Sabre VObject 4.5.8//EN
CALSCALE:GREGORIAN
BEGIN:VEVENT
UID:sabre-vobject-41859299-e26a-4f6b-ad80-89db2c178c8c
DTSTAMP:20260420T025530Z
SUMMARY:Rommé
DESCRIPTION:https://keb-pfaffenhofen.de/romme_id325443
DTSTART;TZID=Europe/Berlin:20260420T133000
LOCATION:Bürgerzentrum Pfaffenhofen Hofbergsaal\, Hofberg 7\, 85276 Pfaffe
 nhofen an der Ilm
END:VEVENT
END:VCALENDAR
