BEGIN:VCALENDAR
VERSION:2.0
PRODID:-//Sabre//Sabre VObject 4.5.8//EN
CALSCALE:GREGORIAN
BEGIN:VEVENT
UID:sabre-vobject-09d20ebe-a23f-46f8-a251-ec0f116caf31
DTSTAMP:20260423T095722Z
SUMMARY:Radtouren der E-Bike-Gruppe Seniorenbüro Pfaffenhofen
DESCRIPTION:https://keb-pfaffenhofen.de/radtouren-der-e-bike-gruppe-seniore
 nbuero-pfaffenhofen_id322946
DTSTART;TZID=Europe/Berlin:20260430T100000
LOCATION:Geschäftsparkplatz\, Sperl-Ring 4\, 85276 Hettenshausen
END:VEVENT
END:VCALENDAR
