BEGIN:VCALENDAR
VERSION:2.0
PRODID:-//Sabre//Sabre VObject 4.5.8//EN
CALSCALE:GREGORIAN
BEGIN:VEVENT
UID:sabre-vobject-78918b79-93ed-4d34-a0a4-77a95642a687
DTSTAMP:20260426T030120Z
SUMMARY:Wanderung in Petershausen
DESCRIPTION:https://keb-pfaffenhofen.de/wanderung-in-petershausen_id322937
DTSTART;TZID=Europe/Berlin:20260426T133000
LOCATION:Parkplatz Schyrengymnasium (Fahrgemeinschaften)\, Niederscheyerer 
 Straße 4\, 85276 Pfaffenhofen an der Ilm
END:VEVENT
END:VCALENDAR
