BEGIN:VCALENDAR
VERSION:2.0
PRODID:-//Sabre//Sabre VObject 4.5.8//EN
CALSCALE:GREGORIAN
BEGIN:VEVENT
UID:sabre-vobject-a086d215-24eb-4555-a6fe-15ffa8321ba3
DTSTAMP:20260425T101924Z
SUMMARY:Schulung zum/zur "Helfer*in zur Unterstützung im Alltag" nach §45
 a SGB XI
DESCRIPTION:https://keb-pfaffenhofen.de/schulung-zum-zur-helfer-in-zur-unte
 rstuetzung-im-alltag-nach-45a-sgb-xi_id322907
DTSTART;TZID=Europe/Berlin:20260425T090000
DTEND;TZID=Europe/Berlin:20260425T143000
LOCATION:Caritas Zentrum Pfaffenhofen\, Ambergerweg 3\, 85276 Pfaffenhofen 
 an der Ilm
END:VEVENT
END:VCALENDAR
