BEGIN:VCALENDAR
VERSION:2.0
PRODID:-//Sabre//Sabre VObject 4.5.8//EN
CALSCALE:GREGORIAN
BEGIN:VEVENT
UID:sabre-vobject-5d1afee4-8050-478e-b38d-82d11aef3a28
DTSTAMP:20260423T181602Z
SUMMARY:Die Messfeier - Ein Opfer?
DESCRIPTION:https://keb-pfaffenhofen.de/keb-pfaffenhofen/veranstaltungen/di
 e-messfeier-ein-opfer_id319199
DTSTART;TZID=Europe/Berlin:20260611T183000
LOCATION:Kolpingsaal\, Frauentorstraße 29\, 86152 Augsburg
END:VEVENT
END:VCALENDAR
