BEGIN:VCALENDAR
VERSION:2.0
PRODID:-//Sabre//Sabre VObject 4.5.8//EN
CALSCALE:GREGORIAN
BEGIN:VEVENT
UID:sabre-vobject-8c386fc0-36c9-420b-8038-31e9d2519ac0
DTSTAMP:20260424T132407Z
SUMMARY:Sich glücklich laufen (RB Prolog 49)
DESCRIPTION:https://keb-pfaffenhofen.de/keb-pfaffenhofen/veranstaltungen/si
 ch-gluecklich-laufen-rb-prolog-49_id318627
DTSTART;TZID=Europe/Berlin:20260707T193000
LOCATION:Benediktinerabtei St. Stephan\, Stephansplatz 6\, 86152 Augsburg
END:VEVENT
END:VCALENDAR
