BEGIN:VCALENDAR
VERSION:2.0
PRODID:-//Sabre//Sabre VObject 4.5.8//EN
CALSCALE:GREGORIAN
BEGIN:VEVENT
UID:sabre-vobject-2abffbc0-ad49-4dc2-9e02-dc1928cea0dd
DTSTAMP:20260422T070657Z
SUMMARY:Symbiosis - Kunst zwischen Mensch und Natur
DESCRIPTION:https://keb-pfaffenhofen.de/keb-pfaffenhofen/veranstaltungen/sy
 mbiosis-kunst-zwischen-mensch-und-natur_id318623
DTSTART;TZID=Europe/Berlin:20260618T101500
LOCATION:H1 Zentrum für Gegenwartskunst\, Beim Glaspalast 1\, 86153 Augsbu
 rg
END:VEVENT
END:VCALENDAR
