BEGIN:VCALENDAR
VERSION:2.0
PRODID:-//Sabre//Sabre VObject 4.5.8//EN
CALSCALE:GREGORIAN
BEGIN:VEVENT
UID:sabre-vobject-d42ccfdf-a31b-4a1b-95e5-0792bf0da8e2
DTSTAMP:20260422T065906Z
SUMMARY:Celebrating Fashion - Talbot Runhof in Paris
DESCRIPTION:https://keb-pfaffenhofen.de/keb-pfaffenhofen/veranstaltungen/ce
 lebrating-fashion-talbot-runhof-in-paris_id318613
DTSTART;TZID=Europe/Berlin:20260609T101500
LOCATION:tim\, Provinostraße 46\, 86153 Augsburg
END:VEVENT
END:VCALENDAR
