BEGIN:VCALENDAR
VERSION:2.0
PRODID:-//Sabre//Sabre VObject 4.5.8//EN
CALSCALE:GREGORIAN
BEGIN:VEVENT
UID:sabre-vobject-d0bf66f0-aa08-44c7-9003-7458b97e4e9c
DTSTAMP:20260422T071356Z
SUMMARY:Schaezlerpalais - die Barockgalerie
DESCRIPTION:https://keb-pfaffenhofen.de/keb-pfaffenhofen/veranstaltungen/sc
 haezlerpalais-die-barockgalerie_id318611
DTSTART;TZID=Europe/Berlin:20260520T101500
LOCATION:Schaezlerpalais\, Maximilianstraße 46\, 86150 Augsburg
END:VEVENT
END:VCALENDAR
