BEGIN:VCALENDAR
VERSION:2.0
PRODID:-//Sabre//Sabre VObject 4.5.8//EN
CALSCALE:GREGORIAN
BEGIN:VEVENT
UID:sabre-vobject-63347915-6339-4894-a3cc-838836a21ac0
DTSTAMP:20260426T025928Z
SUMMARY:Basilika-Führung Kloster Scheyern
DESCRIPTION:https://keb-pfaffenhofen.de/basilika-fuehrung-kloster-scheyern_
 id315078
DTSTART;TZID=Europe/Berlin:20260426T150000
DTEND;TZID=Europe/Berlin:20260426T160000
LOCATION:Basilika\, Schyrenplatz 1\, 85298 Scheyern
END:VEVENT
END:VCALENDAR
