BEGIN:VCALENDAR
VERSION:2.0
PRODID:-//Sabre//Sabre VObject 4.5.8//EN
CALSCALE:GREGORIAN
BEGIN:VEVENT
UID:sabre-vobject-6841a3bc-794c-4e3a-b962-9a09319dedba
DTSTAMP:20260422T080635Z
SUMMARY:Die Klosterbrauerei Scheyern
DESCRIPTION:https://keb-pfaffenhofen.de/die-klosterbrauerei-scheyern_id3150
 24
DTSTART;TZID=Europe/Berlin:20260422T150000
LOCATION:Klosterbrauerei Kloster Scheyern\, Schyrenplatz 1\, 85298 Scheyern
END:VEVENT
END:VCALENDAR
