BEGIN:VCALENDAR
VERSION:2.0
PRODID:-//Sabre//Sabre VObject 4.5.8//EN
CALSCALE:GREGORIAN
BEGIN:VEVENT
UID:sabre-vobject-5405c517-7308-46fb-bc4d-fbe2d2c79a9d
DTSTAMP:20260425T101837Z
SUMMARY:Vogelstimmenwanderung
DESCRIPTION:https://keb-pfaffenhofen.de/vogelstimmenwanderung_id307762
DTSTART;TZID=Europe/Berlin:20260425T080000
DTEND;TZID=Europe/Berlin:20260425T103000
LOCATION:Oase Steinerskirchen\, Steinerskirchen 1\, 86558 Hohenwart
END:VEVENT
END:VCALENDAR
