BEGIN:VCALENDAR
VERSION:2.0
PRODID:-//Sabre//Sabre VObject 4.5.8//EN
CALSCALE:GREGORIAN
BEGIN:VEVENT
UID:sabre-vobject-29a34c20-d84f-4f13-ab21-06887eaa136f
DTSTAMP:20260421T114915Z
SUMMARY:Was Gott verbunden hat ... Ist die Ehe heute noch zeitgemäß?
DESCRIPTION:https://keb-pfaffenhofen.de/was-gott-verbunden-hat-ist-die-ehe-
 heute-noch-zeitgemaess_id293575
DTSTART;TZID=Europe/Berlin:20261024T191500
LOCATION:Pfarrheim Vohburg\, Pfarrhofstraße 13\, 85088 Vohburg an der Dona
 u
END:VEVENT
END:VCALENDAR
