BEGIN:VCALENDAR
VERSION:2.0
PRODID:-//Sabre//Sabre VObject 4.5.8//EN
CALSCALE:GREGORIAN
BEGIN:VEVENT
UID:sabre-vobject-22cde153-2772-420f-a38e-41527b653b01
DTSTAMP:20260421T114648Z
SUMMARY:Bayerischer Hoagarten - Wirtshaussingen
DESCRIPTION:https://keb-pfaffenhofen.de/bayerischer-hoagarten-wirtshaussing
 en_id293573
DTSTART;TZID=Europe/Berlin:20261107T193000
LOCATION:Pfarrheim Vohburg\, Pfarrhofstraße 13\, 85088 Vohburg an der Dona
 u
END:VEVENT
END:VCALENDAR
