BEGIN:VCALENDAR
VERSION:2.0
PRODID:-//Sabre//Sabre VObject 4.5.8//EN
CALSCALE:GREGORIAN
BEGIN:VEVENT
UID:sabre-vobject-b0c1cadb-9964-440b-afdb-95bd8ea85619
DTSTAMP:20260421T114351Z
SUMMARY:Brautleutetag - EHE wir heiraten
DESCRIPTION:https://keb-pfaffenhofen.de/brautleutetag-ehe-wir-heiraten_id29
 3570
DTSTART;TZID=Europe/Berlin:20260509T130000
LOCATION:Pfarrheim Vohburg\, Pfarrhofstraße 13\, 85088 Vohburg an der Dona
 u
END:VEVENT
END:VCALENDAR
