BEGIN:VCALENDAR
VERSION:2.0
PRODID:-//Sabre//Sabre VObject 4.5.8//EN
CALSCALE:GREGORIAN
BEGIN:VEVENT
UID:sabre-vobject-43e2bb05-4d1c-48b1-9b61-decec715b106
DTSTAMP:20260421T114928Z
SUMMARY:Anregung zur religösen Erziehung
DESCRIPTION:https://keb-pfaffenhofen.de/anregung-zur-religoesen-erziehung_i
 d293565
DTSTART;TZID=Europe/Berlin:20261112T000000
LOCATION:Pfarrheim Vohburg\, Pfarrhofstraße 13\, 85088 Vohburg an der Dona
 u
END:VEVENT
END:VCALENDAR
