BEGIN:VCALENDAR
VERSION:2.0
PRODID:-//Sabre//Sabre VObject 4.5.8//EN
CALSCALE:GREGORIAN
BEGIN:VEVENT
UID:sabre-vobject-3f790f8c-2dce-45bb-994c-86133a45c6b7
DTSTAMP:20260421T113853Z
SUMMARY:Gott - Glaube - Kirche - Die  Erstkommunion
DESCRIPTION:https://keb-pfaffenhofen.de/gott-glaube-kirche-die-erstkommunio
 n_id293564
DTSTART;TZID=Europe/Berlin:20261009T200000
LOCATION:Pfarrheim Vohburg\, Pfarrhofstraße 13\, 85088 Vohburg an der Dona
 u
END:VEVENT
END:VCALENDAR
