BEGIN:VCALENDAR
VERSION:2.0
PRODID:-//Sabre//Sabre VObject 4.5.8//EN
CALSCALE:GREGORIAN
BEGIN:VEVENT
UID:sabre-vobject-a82099b0-2c71-4f5c-b4e2-c2d2051d8ae8
DTSTAMP:20260424T091437Z
SUMMARY:Richtig Spielen mit Kleinkindern unter pädagogischer Anleitung
DESCRIPTION:https://keb-pfaffenhofen.de/richtig-spielen-mit-kleinkindern-un
 ter-paedagogischer-anleitung_id293483
DTSTART;TZID=Europe/Berlin:20260424T090000
DTEND;TZID=Europe/Berlin:20260424T103000
LOCATION:Pfarrheim Vohburg\, Pfarrhofstraße 13\, 85088 Vohburg an der Dona
 u
END:VEVENT
END:VCALENDAR
