BEGIN:VCALENDAR
VERSION:2.0
PRODID:-//Sabre//Sabre VObject 4.5.8//EN
CALSCALE:GREGORIAN
BEGIN:VEVENT
UID:sabre-vobject-fd4e628f-6c43-4834-b6ff-ee1e79e11bce
DTSTAMP:20260423T094753Z
SUMMARY:Alle Jahre wieder ist Advent - für Senioren
DESCRIPTION:https://keb-pfaffenhofen.de/alle-jahre-wieder-ist-advent-fuer-s
 enioren_id293466
DTSTART;TZID=Europe/Berlin:20261210T143000
LOCATION:Pfarrheim Vohburg\, Pfarrhofstraße 13\, 85088 Vohburg an der Dona
 u
END:VEVENT
END:VCALENDAR
