BEGIN:VCALENDAR
VERSION:2.0
PRODID:-//Sabre//Sabre VObject 4.5.8//EN
CALSCALE:GREGORIAN
BEGIN:VEVENT
UID:sabre-vobject-9aab8c1a-e1cb-4ad3-9aa7-ddbe395c4609
DTSTAMP:20260421T115039Z
SUMMARY:Senioren - Ausflug - Ziel noch offen!
DESCRIPTION:https://keb-pfaffenhofen.de/senioren-ausflug-ziel-noch-offen_id
 293465
DTSTART;TZID=Europe/Berlin:20260910T000000
LOCATION:Pfarrheim Vohburg\, Pfarrhofstraße 13\, 85088 Vohburg an der Dona
 u
END:VEVENT
END:VCALENDAR
