BEGIN:VCALENDAR
VERSION:2.0
PRODID:-//Sabre//Sabre VObject 4.5.8//EN
CALSCALE:GREGORIAN
BEGIN:VEVENT
UID:sabre-vobject-9b11817b-25cb-4bbc-90e4-69bc79192c10
DTSTAMP:20260423T084050Z
SUMMARY:Christ sein im täglichen Leben
DESCRIPTION:https://keb-pfaffenhofen.de/christ-sein-im-taeglichen-leben_id2
 93409
DTSTART;TZID=Europe/Berlin:20260421T183000
LOCATION:Pfarrheim Vohburg\, Pfarrhofstraße 13\, 85088 Vohburg an der Dona
 u
END:VEVENT
END:VCALENDAR
