BEGIN:VCALENDAR
VERSION:2.0
PRODID:-//Sabre//Sabre VObject 4.5.8//EN
CALSCALE:GREGORIAN
BEGIN:VEVENT
UID:sabre-vobject-2747f59f-a2d1-4d1c-956a-00d8f08eace8
DTSTAMP:20260421T114801Z
SUMMARY:Wissenswertes über die Maria-Reis-Kapelle
DESCRIPTION:https://keb-pfaffenhofen.de/wissenswertes-ueber-die-maria-reis-
 kapelle_id292716
DTSTART;TZID=Europe/Berlin:20261011T133000
LOCATION:St. Anton\, Ulrich-Steinberger-Platz 1\, 85088 Vohburg an der Dona
 u
END:VEVENT
END:VCALENDAR
