BEGIN:VCALENDAR
VERSION:2.0
PRODID:-//Sabre//Sabre VObject 4.5.8//EN
CALSCALE:GREGORIAN
BEGIN:VEVENT
UID:sabre-vobject-98407d95-783d-4007-8790-0bcf45ab78ee
DTSTAMP:20260421T114637Z
SUMMARY:Wir erkunden unsere Umgebung mit dem Fahrrad
DESCRIPTION:https://keb-pfaffenhofen.de/wir-erkunden-unsere-umgebung-mit-de
 m-fahrrad_id292715
DTSTART;TZID=Europe/Berlin:20260709T180000
LOCATION:Mariensäule\, Ulrich-Steinberger-Platz 1\, 85088 Vohburg an der D
 onau
END:VEVENT
END:VCALENDAR
