BEGIN:VCALENDAR
VERSION:2.0
PRODID:-//Sabre//Sabre VObject 4.5.8//EN
CALSCALE:GREGORIAN
BEGIN:VEVENT
UID:sabre-vobject-bff1aec2-520a-4043-85f6-e683fda9ad27
DTSTAMP:20260421T114407Z
SUMMARY:Der Erntedankaltar
DESCRIPTION:https://keb-pfaffenhofen.de/der-erntedankaltar_id292714
DTSTART;TZID=Europe/Berlin:20261002T153000
LOCATION:St. Peter\, Pfarrhofstraße 10\, 85088 Vohburg an der Donau
END:VEVENT
END:VCALENDAR
