BEGIN:VCALENDAR
VERSION:2.0
PRODID:-//Sabre//Sabre VObject 4.5.8//EN
CALSCALE:GREGORIAN
BEGIN:VEVENT
UID:sabre-vobject-6a932cd3-f3fa-4c36-980c-135fb58f242e
DTSTAMP:20260421T114209Z
SUMMARY:Wie gratulieren wir richtig
DESCRIPTION:https://keb-pfaffenhofen.de/wie-gratulieren-wir-richtig_id29270
 8
DTSTART;TZID=Europe/Berlin:20261016T143000
LOCATION:Pfarrheim Vohburg\, Pfarrhofstraße 13\, 85088 Vohburg an der Dona
 u
END:VEVENT
END:VCALENDAR
