BEGIN:VCALENDAR
VERSION:2.0
PRODID:-//Sabre//Sabre VObject 4.5.8//EN
CALSCALE:GREGORIAN
BEGIN:VEVENT
UID:sabre-vobject-89d459a9-4250-4763-8f2c-e45421be7ce9
DTSTAMP:20260421T114954Z
SUMMARY:Wenn Flügel dich berühren
DESCRIPTION:https://keb-pfaffenhofen.de/wenn-fluegel-dich-beruehren_id29267
 5
DTSTART;TZID=Europe/Berlin:20261204T170000
LOCATION:Pfarrheim Vohburg\, Pfarrhofstraße 13\, 85088 Vohburg an der Dona
 u
END:VEVENT
END:VCALENDAR
