BEGIN:VCALENDAR
VERSION:2.0
PRODID:-//Sabre//Sabre VObject 4.5.8//EN
CALSCALE:GREGORIAN
BEGIN:VEVENT
UID:sabre-vobject-48e5d361-85b6-4b4a-933f-d7a8508a850f
DTSTAMP:20260421T114413Z
SUMMARY:Adventliches Basteln
DESCRIPTION:https://keb-pfaffenhofen.de/adventliches-basteln_id292643
DTSTART;TZID=Europe/Berlin:20261114T140000
LOCATION:Pfarrheim Vohburg\, Pfarrhofstraße 13\, 85088 Vohburg an der Dona
 u
END:VEVENT
END:VCALENDAR
