BEGIN:VCALENDAR
VERSION:2.0
PRODID:-//Sabre//Sabre VObject 4.5.8//EN
CALSCALE:GREGORIAN
BEGIN:VEVENT
UID:sabre-vobject-60bc43d7-fa05-431b-82ee-26c6b381fc33
DTSTAMP:20260421T114351Z
SUMMARY:Rituale als Kraftquelle
DESCRIPTION:https://keb-pfaffenhofen.de/rituale-als-kraftquelle_id292642
DTSTART;TZID=Europe/Berlin:20260512T090000
LOCATION:Pfarrheim Vohburg\, Pfarrhofstraße 13\, 85088 Vohburg an der Dona
 u
END:VEVENT
END:VCALENDAR
