BEGIN:VCALENDAR
VERSION:2.0
PRODID:-//Sabre//Sabre VObject 4.5.8//EN
CALSCALE:GREGORIAN
BEGIN:VEVENT
UID:sabre-vobject-69ff21a0-ede6-487a-a79f-44010d0e834a
DTSTAMP:20260421T113853Z
SUMMARY:Basenfastenkurs
DESCRIPTION:https://keb-pfaffenhofen.de/basenfastenkurs_id292640
DTSTART;TZID=Europe/Berlin:20261030T190000
LOCATION:Pfarrheim Vohburg\, Pfarrhofstraße 13\, 85088 Vohburg an der Dona
 u
END:VEVENT
END:VCALENDAR
