BEGIN:VCALENDAR
VERSION:2.0
PRODID:-//Sabre//Sabre VObject 4.5.8//EN
CALSCALE:GREGORIAN
BEGIN:VEVENT
UID:sabre-vobject-ffbbce9f-f8bb-4ea4-8ffd-df2f55a225d7
DTSTAMP:20260421T141652Z
SUMMARY:Lichternacht
DESCRIPTION:https://keb-pfaffenhofen.de/lichternacht_id292155
DTSTART;TZID=Europe/Berlin:20261130T190000
LOCATION:Kirche St. Sixtus\, Tassilostraße 14\, 85126 Münchsmünster
END:VEVENT
END:VCALENDAR
