BEGIN:VCALENDAR
VERSION:2.0
PRODID:-//Sabre//Sabre VObject 4.5.8//EN
CALSCALE:GREGORIAN
BEGIN:VEVENT
UID:sabre-vobject-e4eb6d7c-33cf-41fd-9fdc-b5eecc6b3984
DTSTAMP:20260421T141822Z
SUMMARY:"Du und ich...." - Kirchliche Ehejubiläen mit Erfahrungsaustausch
DESCRIPTION:https://keb-pfaffenhofen.de/du-und-ich-kirchliche-ehejubilaeen-
 mit-erfahrungsaustausch_id292129
DTSTART;TZID=Europe/Berlin:20261107T180000
LOCATION:Pfarrheim Münchsmünster\, Michael-Sirl-Straße 12\, 85126 Münch
 smünster
END:VEVENT
END:VCALENDAR
