BEGIN:VCALENDAR
VERSION:2.0
PRODID:-//Sabre//Sabre VObject 4.5.8//EN
CALSCALE:GREGORIAN
BEGIN:VEVENT
UID:sabre-vobject-fb27a444-11bf-48ce-b2da-bf9e9982ac08
DTSTAMP:20260421T141703Z
SUMMARY:Das Sakrament der Erstkommunion
DESCRIPTION:https://keb-pfaffenhofen.de/das-sakrament-der-erstkommunion_id2
 92128
DTSTART;TZID=Europe/Berlin:20261015T000000
LOCATION:Pfarrheim Münchsmünster\, Michael-Sirl-Straße 12\, 85126 Münch
 smünster
END:VEVENT
END:VCALENDAR
