BEGIN:VCALENDAR
VERSION:2.0
PRODID:-//Sabre//Sabre VObject 4.5.8//EN
CALSCALE:GREGORIAN
BEGIN:VEVENT
UID:sabre-vobject-597febdf-5cb2-4e90-b84a-fd079e95c35b
DTSTAMP:20260421T141849Z
SUMMARY:Wanderung nach Appersdorf
DESCRIPTION:https://keb-pfaffenhofen.de/wanderung-nach-appersdorf_id292127
DTSTART;TZID=Europe/Berlin:20260704T050000
LOCATION:Treffpunkt: Kirchplatz\, Tassilostraße 14\, 85126 Münchsmünster
END:VEVENT
END:VCALENDAR
