BEGIN:VCALENDAR
VERSION:2.0
PRODID:-//Sabre//Sabre VObject 4.5.8//EN
CALSCALE:GREGORIAN
BEGIN:VEVENT
UID:sabre-vobject-16ddc30b-4495-46ab-ad88-f04fc520719f
DTSTAMP:20260422T080751Z
SUMMARY:Café Uhu
DESCRIPTION:https://keb-pfaffenhofen.de/cafe-uhu_id291973
DTSTART;TZID=Europe/Berlin:20260422T140000
LOCATION:Pfarrheim Pfaffenhofen\, Scheyerer Straße 2\, 85276 Pfaffenhofen 
 an der Ilm
END:VEVENT
END:VCALENDAR
