BEGIN:VCALENDAR
VERSION:2.0
PRODID:-//Sabre//Sabre VObject 4.5.8//EN
CALSCALE:GREGORIAN
BEGIN:VEVENT
UID:sabre-vobject-aa6c9749-24a1-4e64-964d-6be8ac4ab495
DTSTAMP:20260421T142059Z
SUMMARY:Beckenbodentraining
DESCRIPTION:https://keb-pfaffenhofen.de/beckenbodentraining_id291400
DTSTART;TZID=Europe/Berlin:20260930T000000
LOCATION:Pfarrheim Münchsmünster\, Michael-Sirl-Straße 12\, 85126 Münch
 smünster
END:VEVENT
END:VCALENDAR
