BEGIN:VCALENDAR
VERSION:2.0
PRODID:-//Sabre//Sabre VObject 4.5.8//EN
CALSCALE:GREGORIAN
BEGIN:VEVENT
UID:sabre-vobject-2efd4eac-010a-44cb-ba6f-be0f09be9b7a
DTSTAMP:20260421T141806Z
SUMMARY:Jahrtagsgottesdienst
DESCRIPTION:https://keb-pfaffenhofen.de/jahrtagsgottesdienst_id291397
DTSTART;TZID=Europe/Berlin:20261010T190000
LOCATION:Pfarrkirche St. Sixtus\, Tassilostraße 14\, 85126 Münchsmünster
END:VEVENT
END:VCALENDAR
