BEGIN:VCALENDAR
VERSION:2.0
PRODID:-//Sabre//Sabre VObject 4.5.8//EN
CALSCALE:GREGORIAN
BEGIN:VEVENT
UID:sabre-vobject-3015466b-d13d-4a5e-9584-48ccdd713929
DTSTAMP:20260421T141713Z
SUMMARY:Radfahrt zur Maria Hilf Kapelle im Forst
DESCRIPTION:https://keb-pfaffenhofen.de/radfahrt-zur-maria-hilf-kapelle-im-
 forst_id291396
DTSTART;TZID=Europe/Berlin:20260815T180000
LOCATION:Pfarrheim Münchsmünster\, Michael-Sirl-Straße 12\, 85126 Münch
 smünster
END:VEVENT
END:VCALENDAR
