BEGIN:VCALENDAR
VERSION:2.0
PRODID:-//Sabre//Sabre VObject 4.5.8//EN
CALSCALE:GREGORIAN
BEGIN:VEVENT
UID:sabre-vobject-fabf957e-5d4f-4258-b1bc-0bde1cd3f58b
DTSTAMP:20260421T142007Z
SUMMARY:Defibrillator Schulung
DESCRIPTION:https://keb-pfaffenhofen.de/defibrillator-schulung_id291395
DTSTART;TZID=Europe/Berlin:20260715T000000
LOCATION:Pfarrheim Münchsmünster\, Michael-Sirl-Straße 12\, 85126 Münch
 smünster
END:VEVENT
END:VCALENDAR
