BEGIN:VCALENDAR
VERSION:2.0
PRODID:-//Sabre//Sabre VObject 4.5.8//EN
CALSCALE:GREGORIAN
BEGIN:VEVENT
UID:sabre-vobject-4ce533a6-2f52-44d6-9c3c-ef8b51e259f2
DTSTAMP:20260421T141952Z
SUMMARY:Radlfahrt
DESCRIPTION:https://keb-pfaffenhofen.de/radlfahrt_id291394
DTSTART;TZID=Europe/Berlin:20260627T000000
LOCATION:Pfarrheim Münchsmünster\, Michael-Sirl-Straße 12\, 85126 Münch
 smünster
END:VEVENT
END:VCALENDAR
